BEGIN:VCALENDAR
VERSION:2.0
PRODID:-//72.52.216.184//NONSGML kigkonsult.se iCalcreator 2.20//
CALSCALE:GREGORIAN
METHOD:PUBLISH
X-FROM-URL:http://bbht.com.au
X-WR-TIMEZONE:Australia/Brisbane
BEGIN:VTIMEZONE
TZID:Australia/Brisbane
X-LIC-LOCATION:Australia/Brisbane
BEGIN:STANDARD
DTSTART:19920301T030000
TZOFFSETFROM:+1100
TZOFFSETTO:+1000
TZNAME:AEST
END:STANDARD
END:VTIMEZONE
BEGIN:VEVENT
UID:ai1ec-2199@bbht.com.au
DTSTAMP:20200225T015920Z
CATEGORIES;LANGUAGE=en-US:Food safety
CONTACT:1300 170 434\; info@bbht.com.au\; http://bbht.com.au/enrolment/
DESCRIPTION:
DTSTART;TZID=Australia/Brisbane:20170302T090000
DTEND;TZID=Australia/Brisbane:20170302T140000
GEO:-27.715414;+153.202551
LOCATION:Brisbane Business & Hospitality Training @ 106 City Rd\, Beenleigh
  QLD 4207\, Australia
RRULE:FREQ=MONTHLY;UNTIL=20170706T235959Z;BYDAY=1TH
SEQUENCE:0
SUMMARY:Food Safety Level 1
URL:http://bbht.com.au/event/food-safety-level-1/
X-COST:$105
END:VEVENT
BEGIN:VEVENT
UID:ai1ec-2202@bbht.com.au
DTSTAMP:20200225T015920Z
CATEGORIES;LANGUAGE=en-US:Training &amp\; Assessment
CONTACT:1300 170 434\; info@bbht.com.au\; http://bbht.com.au/enrolment/
DESCRIPTION:
DTSTART;TZID=Australia/Brisbane:20170306T083000
DTEND;TZID=Australia/Brisbane:20170310T170000
LOCATION:Longreach
SEQUENCE:0
SUMMARY:Certificate IV Training and Assessment
URL:http://bbht.com.au/event/certificate-iv-training-and-assessment-2/
X-COST:$1\,650.00 or $1\,495.00 if paid on Enrolment
END:VEVENT
BEGIN:VEVENT
UID:ai1ec-2211@bbht.com.au
DTSTAMP:20200225T015920Z
CATEGORIES;LANGUAGE=en-US:Coffee Training
CONTACT:1300 170 434\; info@bbht.com.au\; http://bbht.com.au/enrolment/
DESCRIPTION:
DTSTART;TZID=Australia/Brisbane:20170306T090000
DTEND;TZID=Australia/Brisbane:20170307T160000
GEO:-27.716111;+153.201944
LOCATION:Beenleigh Soccer Club @ Beenleigh QLD 4207\, Australia
SEQUENCE:0
SUMMARY:Prepare and Serve Espresso Coffee
URL:http://bbht.com.au/event/prepare-and-serve-espresso-coffee-2/
X-COST:$247.00
END:VEVENT
BEGIN:VEVENT
UID:ai1ec-2194@bbht.com.au
DTSTAMP:20200225T015920Z
CATEGORIES;LANGUAGE=en-US:Food safety
CONTACT:1300 170 434\; info@bbht.com.au\; http://bbht.com.au/enrolment/
DESCRIPTION:
DTSTART;TZID=Australia/Brisbane:20170316T090000
DTEND;TZID=Australia/Brisbane:20170316T160000
GEO:-27.715414;+153.202551
LOCATION:Brisbane Business & Hospitality Training @ 106 City Rd\, Beenleigh
  QLD 4207\, Australia
RRULE:FREQ=MONTHLY;UNTIL=20170701T235959Z;BYDAY=3TH
SEQUENCE:0
SUMMARY:Food Safety Supervisor
URL:http://bbht.com.au/event/food-safety-supervisor-2/
X-COST:$195
END:VEVENT
BEGIN:VEVENT
UID:ai1ec-2206@bbht.com.au
DTSTAMP:20200225T015920Z
CATEGORIES;LANGUAGE=en-US:Responsible Management of Licensed Venues
CONTACT:1300 170 434\; info@bbht.com.au\; http://bbht.com.au/enrolment/
DESCRIPTION:
DTSTART;TZID=Australia/Brisbane:20170321T080000
DTEND;TZID=Australia/Brisbane:20170321T190000
GEO:-17.52302;+146.031559
LOCATION:Innisfail RSL @ 18 Fitzgerald Esplanade\, Innisfail QLD 4860\, Aus
 tralia
RDATE;TZID=Australia/Brisbane:20180328T080000
SEQUENCE:0
SUMMARY:Responsible Management of Licensed Venues
URL:http://bbht.com.au/event/responsible-management-of-licensed-venues-3/
X-COST-TYPE:free
END:VEVENT
BEGIN:VEVENT
UID:ai1ec-2282@bbht.com.au
DTSTAMP:20200225T015920Z
CATEGORIES;LANGUAGE=en-US:Responsible Service of Alcohol
CONTACT:Donna Law\; 0428 920 896 \; dmacd1@bigpond.com
DESCRIPTION:
DTSTART;TZID=Australia/Brisbane:20180115T090000
DTEND;TZID=Australia/Brisbane:20180115T150000
GEO:-17.522626;+146.028522
LOCATION:Innisfail QLD 4860\, Australia
RDATE;TZID=Australia/Brisbane:20180214T090000
SEQUENCE:0
SUMMARY:Responsible Service of Alcohol
URL:http://bbht.com.au/event/responsible-service-alcohol/
X-COST-TYPE:free
X-COST:75.00
END:VEVENT
BEGIN:VEVENT
UID:ai1ec-2283@bbht.com.au
DTSTAMP:20200225T015920Z
CATEGORIES;LANGUAGE=en-US:Responsible Management of Licensed Venues
CONTACT:Donna Law\; 0428 920 896 \; dmacd1@bigpond.com
DESCRIPTION:
DTSTART;TZID=Australia/Brisbane:20180116T080000
DTEND;TZID=Australia/Brisbane:20180116T190000
GEO:-16.918551;+145.778055
LOCATION:Cairns QLD\, Australia
RDATE;TZID=Australia/Brisbane:20180213T080000
RDATE;TZID=Australia/Brisbane:20180313T080000
RDATE;TZID=Australia/Brisbane:20180410T080000
SEQUENCE:0
SUMMARY:Responsible Management of a Licensed Venue
URL:http://bbht.com.au/event/responsible-management-licensed-venue/
X-COST-TYPE:free
X-COST:385.00
END:VEVENT
BEGIN:VEVENT
UID:ai1ec-2284@bbht.com.au
DTSTAMP:20200225T015920Z
CATEGORIES;LANGUAGE=en-US:Gaming Nominee Course Qld
CONTACT:Donna Law\; 0428 920 896 \; dmacd1@bigpond.com
DESCRIPTION:
DTSTART;TZID=Australia/Brisbane:20180118T080000
DTEND;TZID=Australia/Brisbane:20180118T190000
GEO:-17.522626;+146.028522
LOCATION:Innisfail QLD 4860\, Australia
SEQUENCE:0
SUMMARY:Gaming Nominee Course
URL:http://bbht.com.au/event/gaming-nominee-course/
X-COST-TYPE:free
X-COST:515.00
END:VEVENT
BEGIN:VEVENT
UID:ai1ec-2285@bbht.com.au
DTSTAMP:20200225T015920Z
CATEGORIES;LANGUAGE=en-US:RSG
CONTACT:Donna Law\; 0428 920 896 \; dmacd1@bigpond.com
DESCRIPTION:
DTSTART;TZID=Australia/Brisbane:20180122T090000
DTEND;TZID=Australia/Brisbane:20180122T130000
GEO:-17.522626;+146.028522
LOCATION:Innisfail QLD 4860\, Australia
SEQUENCE:0
SUMMARY:Responsible Gambling Services
URL:http://bbht.com.au/event/responsible-gambling-services/
X-COST-TYPE:free
X-COST:75.00
END:VEVENT
BEGIN:VEVENT
UID:ai1ec-2286@bbht.com.au
DTSTAMP:20200225T015920Z
CATEGORIES;LANGUAGE=en-US:Responsible Management of Licensed Venues
CONTACT:Donna Law\; 0428 920 896 \; dmacd1@bigpond.com
DESCRIPTION:
DTSTART;TZID=Australia/Brisbane:20180123T080000
DTEND;TZID=Australia/Brisbane:20180123T190000
GEO:-19.258964;+146.816948
LOCATION:Townsville City QLD 4810\, Australia
RDATE;TZID=Australia/Brisbane:20180219T080000
RDATE;TZID=Australia/Brisbane:20180320T080000
RDATE;TZID=Australia/Brisbane:20180417T080000
SEQUENCE:0
SUMMARY:Responsible Management of a Licensed Venue
URL:http://bbht.com.au/event/responsible-management-licensed-venue-2/
X-COST-TYPE:free
X-COST:385.00
END:VEVENT
BEGIN:VEVENT
UID:ai1ec-2287@bbht.com.au
DTSTAMP:20200225T015920Z
CATEGORIES;LANGUAGE=en-US:Food safety
CONTACT:Donna Law\; 0428 920 896 \; dmacd1@bigpond.com
DESCRIPTION:
DTSTART;TZID=Australia/Brisbane:20180129T080000
DTEND;TZID=Australia/Brisbane:20180129T170000
GEO:-17.522626;+146.028522
LOCATION:Innisfail QLD 4860\, Australia
RDATE;TZID=Australia/Brisbane:20180328T080000
SEQUENCE:0
SUMMARY:Food Safety Supervisor Course
URL:http://bbht.com.au/event/food-safety-supervisor-course/
X-COST-TYPE:free
X-COST:195.00
END:VEVENT
BEGIN:VEVENT
UID:ai1ec-2291@bbht.com.au
DTSTAMP:20200225T015920Z
CATEGORIES;LANGUAGE=en-US:RSG
CONTACT:Donna Law\; 0428 920 896 \; dmacd1@bigpond.com
DESCRIPTION:
DTSTART;TZID=Australia/Brisbane:20180215T090000
DTEND;TZID=Australia/Brisbane:20180215T130000
GEO:-17.525063;+146.027408
LOCATION:Workways @ 37 Glady St\, Innisfail QLD 4860\, Australia
SEQUENCE:0
SUMMARY:Responsible Gambling Services
URL:http://bbht.com.au/event/responsible-gambling-services-2/
X-COST-TYPE:free
END:VEVENT
BEGIN:VEVENT
UID:ai1ec-2288@bbht.com.au
DTSTAMP:20200225T015920Z
CATEGORIES;LANGUAGE=en-US:Responsible Management of Licensed Venues
CONTACT:Donna Law\; 0428 920 896 \; dmacd1@bigpond.com
DESCRIPTION:
DTSTART;TZID=Australia/Brisbane:20180221T080000
DTEND;TZID=Australia/Brisbane:20180221T190000
GEO:-20.725575;+139.492708
LOCATION:Mount Isa City QLD 4825\, Australia
RDATE;TZID=Australia/Brisbane:20180627T080000
SEQUENCE:0
SUMMARY:Responsible Management of a Licensed Venue
URL:http://bbht.com.au/event/responsible-management-licensed-venue-3/
X-COST-TYPE:free
X-COST:385.00
END:VEVENT
BEGIN:VEVENT
UID:ai1ec-2292@bbht.com.au
DTSTAMP:20200225T015920Z
CATEGORIES;LANGUAGE=en-US:Responsible Service of Alcohol
CONTACT:Donna Law\; 0428 920 896 \; dmacd1@bigpond.com
DESCRIPTION:
DTSTART;TZID=Australia/Brisbane:20180315T090000
DTEND;TZID=Australia/Brisbane:20180315T150000
GEO:-17.934387;+145.92478
LOCATION:Workways @ 33-37 Butler St\, Tully QLD 4854\, Australia
SEQUENCE:0
SUMMARY:Responsible Service of Alcohol
URL:http://bbht.com.au/event/responsible-service-alcohol-2/
X-COST-TYPE:free
END:VEVENT
BEGIN:VEVENT
UID:ai1ec-2293@bbht.com.au
DTSTAMP:20200225T015920Z
CATEGORIES;LANGUAGE=en-US:RSG
CONTACT:Donna Law\; 0428 920 896 \; dmacd1@bigpond.com
DESCRIPTION:
DTSTART;TZID=Australia/Brisbane:20180322T090000
DTEND;TZID=Australia/Brisbane:20180322T130000
GEO:-17.934387;+145.92478
LOCATION:Workways @ 33-37 Butler St\, Tully QLD 4854\, Australia
SEQUENCE:0
SUMMARY:Responsible Gambling Services
URL:http://bbht.com.au/event/responsible-gambling-services-3/
X-COST-TYPE:free
END:VEVENT
BEGIN:VEVENT
UID:ai1ec-2298@bbht.com.au
DTSTAMP:20200225T015920Z
CATEGORIES;LANGUAGE=en-US:Responsible Management of Licensed Venues
CONTACT:Donna Law\; 0428920896\; dmacd1@bigpond.com
DESCRIPTION:
DTSTART;TZID=Australia/Brisbane:20180508T080000
DTEND;TZID=Australia/Brisbane:20180508T190000
GEO:-16.916408;+145.7465
LOCATION:Brothers Leagues Club @ 99/105 Anderson St\, Manunda QLD 4870\, Au
 stralia
RDATE;TZID=Australia/Brisbane:20180612T080000
RDATE;TZID=Australia/Brisbane:20180711T080000
RDATE;TZID=Australia/Brisbane:20180807T080000
RDATE;TZID=Australia/Brisbane:20180913T080000
RDATE;TZID=Australia/Brisbane:20181004T080000
RDATE;TZID=Australia/Brisbane:20181113T080000
RDATE;TZID=Australia/Brisbane:20181211T080000
SEQUENCE:0
SUMMARY:Responsible Management of Licensed Venues
URL:http://bbht.com.au/event/responsible-management-licensed-venues/
X-COST-TYPE:free
X-COST:$385.00
END:VEVENT
BEGIN:VEVENT
UID:ai1ec-2305@bbht.com.au
DTSTAMP:20200225T015920Z
CATEGORIES;LANGUAGE=en-US:Responsible Management of Licensed Venues
CONTACT:Donna Law\; 0428920896\; dmacd1@bigpond.com
DESCRIPTION:
DTSTART;TZID=Australia/Brisbane:20180619T080000
DTEND;TZID=Australia/Brisbane:20180619T180000
GEO:-19.258558;+146.812272
LOCATION:Comfort Inn Robert Towns Motel @ 261 Stanley St\, Townsville City 
 QLD 4810\, Australia
RDATE;TZID=Australia/Brisbane:20180918T080000
RDATE;TZID=Australia/Brisbane:20181016T080000
RDATE;TZID=Australia/Brisbane:20181120T080000
RDATE;TZID=Australia/Brisbane:20181213T080000
SEQUENCE:0
SUMMARY:Responsible Management of Licensed Venues
URL:http://bbht.com.au/event/responsible-management-licensed-venues-2-2/
X-COST-TYPE:free
X-COST:$385
END:VEVENT
END:VCALENDAR
